    BEGIN:VCALENDAR
VERSION:2.0
BEGIN:VEVENT
SUMMARY:HAUS &#038; GARTEN MESSE SAAR Die Messe für Bauen, Renovieren, Gestalten
DTSTART:20260417T090000
DTEND:20260419T180000
LOCATION:E-Werk Saarbrücken Dr. Tietz-Straße 14 • 66130 Saarbrücken
END:VEVENT
END:VCALENDAR
