    BEGIN:VCALENDAR
VERSION:2.0
BEGIN:VEVENT
SUMMARY:Deutschlands größte Regionalmesse für Industrie, Handel, Handwerk und Landwirtschaft
DTSTART:20260425T090000
DTEND:20260505T180000
LOCATION:Maimarkthalle Mannheim Xaver-Fuhr-Straße 101, 68163 Mannheim
END:VEVENT
END:VCALENDAR
