    BEGIN:VCALENDAR
VERSION:2.0
BEGIN:VEVENT
SUMMARY:Bitburger Bautage &#8211; Die Messe für Bauen, Renovieren, Wohnen, Energie &#038; Nachhaltigkeit
DTSTART:20260905T090000
DTEND:20260906T180000
LOCATION:Bitburger Stadthalle Römermauer 4 • 54634 Bitburg
END:VEVENT
BEGIN:VEVENT
SUMMARY:Baumesse Lingen &#8211; Die Messe rund um Bauen, Wohnen, Renovieren und Energiesparen
DTSTART:20260904T090000
DTEND:20260906T180000
LOCATION:Emslandhallen Lingen Lindenstraße 24a • 49808 Lingen (Ems)
END:VEVENT
BEGIN:VEVENT
SUMMARY:EPF EstrichParkettFliese &#8211; Fachmesse für den Fußbodenbau
DTSTART:20260624T090000
DTEND:20260426T180000
LOCATION:Bayerische BauAkademie Ansbacher Straße 20 • 91555 Feuchtwangen
END:VEVENT
BEGIN:VEVENT
SUMMARY:Tile+tec Die Designmesse für Fliesen und Technik
DTSTART:20260617T090000
DTEND:20260420T180000
LOCATION:Nürnberg Messe Messezentrum • 90471 Nürnberg
END:VEVENT
BEGIN:VEVENT
SUMMARY:OstBau Ihre Fachmesse für die Bauindustrie
DTSTART:20260618T090000
DTEND:20260620T180000
LOCATION:Messegelände Börnicke Ernst-Thälmann-Straße 3c • 16321 Bernau bei Berlin
END:VEVENT
BEGIN:VEVENT
SUMMARY:HAUS &#038; GARTEN MESSE SAAR Die Messe für Bauen, Renovieren, Gestalten
DTSTART:20260417T090000
DTEND:20260419T180000
LOCATION:E-Werk Saarbrücken Dr. Tietz-Straße 14 • 66130 Saarbrücken
END:VEVENT
BEGIN:VEVENT
SUMMARY:Baumesse Darmstadt Die Messe rund um Bauen, Wohnen, Renovieren und Energiesparen
DTSTART:20260417T090000
DTEND:20260419T180000
LOCATION:Messeplatz Darmstadt Alsfelder Straße • 64289 Darmstadt
END:VEVENT
BEGIN:VEVENT
SUMMARY:Frühjahrsmesse Leben Wohnen Freizeit &#8211; LWF Ulm
DTSTART:20260416T090000
DTEND:20260419T180000
LOCATION:Ulm Messe Böfinger Straße 50 • 89073 Ulm
END:VEVENT
BEGIN:VEVENT
SUMMARY:Deutschlands größte Regionalmesse für Industrie, Handel, Handwerk und Landwirtschaft
DTSTART:20260425T090000
DTEND:20260505T180000
LOCATION:Maimarkthalle Mannheim Xaver-Fuhr-Straße 101, 68163 Mannheim
END:VEVENT
BEGIN:VEVENT
SUMMARY:Am 16. und 17. Juni 2026 wird der 3. Baukongress
DTSTART:20260616T090000
DTEND:20260617T180000
LOCATION:Aachen (Eurogress) 
END:VEVENT
BEGIN:VEVENT
SUMMARY:Baumesse Landau in der Pfalz
DTSTART:20260410T090000
DTEND:20260412T180000
LOCATION:Neues Messegelände Alfred-Nobel-Platz 1, 76829 Landau in der Pfalz, Rheinland-Pfalz, Deutschland
END:VEVENT
END:VCALENDAR
